BEGIN:VCALENDAR
VERSION:2.0
PRODID:-//Burnette Insurance - ECPv6.15.20//NONSGML v1.0//EN
CALSCALE:GREGORIAN
METHOD:PUBLISH
X-WR-CALNAME:Burnette Insurance
X-ORIGINAL-URL:https://www.burnettebenefits.com
X-WR-CALDESC:Events for Burnette Insurance
REFRESH-INTERVAL;VALUE=DURATION:PT1H
X-Robots-Tag:noindex
X-PUBLISHED-TTL:PT1H
BEGIN:VTIMEZONE
TZID:America/New_York
BEGIN:DAYLIGHT
TZOFFSETFROM:-0500
TZOFFSETTO:-0400
TZNAME:EDT
DTSTART:20220313T070000
END:DAYLIGHT
BEGIN:STANDARD
TZOFFSETFROM:-0400
TZOFFSETTO:-0500
TZNAME:EST
DTSTART:20221106T060000
END:STANDARD
BEGIN:DAYLIGHT
TZOFFSETFROM:-0500
TZOFFSETTO:-0400
TZNAME:EDT
DTSTART:20230312T070000
END:DAYLIGHT
BEGIN:STANDARD
TZOFFSETFROM:-0400
TZOFFSETTO:-0500
TZNAME:EST
DTSTART:20231105T060000
END:STANDARD
BEGIN:DAYLIGHT
TZOFFSETFROM:-0500
TZOFFSETTO:-0400
TZNAME:EDT
DTSTART:20240310T070000
END:DAYLIGHT
BEGIN:STANDARD
TZOFFSETFROM:-0400
TZOFFSETTO:-0500
TZNAME:EST
DTSTART:20241103T060000
END:STANDARD
END:VTIMEZONE
BEGIN:VEVENT
DTSTART;TZID=America/New_York:20230627T100000
DTEND;TZID=America/New_York:20230627T113000
DTSTAMP:20260424T061959
CREATED:20230524T201507Z
LAST-MODIFIED:20230525T163729Z
UID:225455-1687860000-1687865400@www.burnettebenefits.com
SUMMARY:Mental Health Awareness In The Workplace
DESCRIPTION:
URL:https://www.burnettebenefits.com/event/mental-health-awareness-in-the-workplace/
LOCATION:Webinar
CATEGORIES:Webinar
ATTACH;FMTTYPE=image/jpeg:https://www.burnettebenefits.com/wp-content/uploads/2023/05/Mental-Health-Awareness-in-the-Workplace-June-2023-1.jpg
ORGANIZER;CN="Jared Bostrom":MAILTO:jared@burnetteinsurance.com
END:VEVENT
END:VCALENDAR